Workbook
Name CV: #REF!

Sheet טופס מאוחד - לפרסום 
A1: ='ראשונים-לפרסום'!B1 -> לתכנון, הקמה, הכנסה לתפעול ותחזוקה של תחנות השנאה (תחנות משנה) בדיפו ראשונים, גלילות, וחולון בקו M1 של רשת המטרו בגוש דן טופס מס' 10 - ההצעה הכספית של המציע
D2: סה"כ ההצעה הכספית
D3: =SUM(D4:D12) -> 366522451
A4: דיפו ראשונים | B4: 1 | C4: ='ראשונים-לפרסום'!C4 -> פאושלי - תחנת השנאה -דיפו ראשונים | D4: ='ראשונים-לפרסום'!N4 -> 69400672
B5: 2 | C5: ='ראשונים-לפרסום'!C5 -> כתב כמויות עבור ציוד עיקרי - תחנת השנאה דיפו ראשונים-חשמל | D5: ='ראשונים-לפרסום'!N5 -> 21297800
B6: 3 | C6: הקצבים | D6: ='ראשונים-לפרסום'!$N$6 -> 3292020
A7: חולון | B7: 1 | C7: ='חולון - לפרסום '!C4 -> פאושלי - תחנת השנאה - חולון | D7: ='חולון - לפרסום '!N4 -> 121294494
B8: 2 | C8: ='חולון - לפרסום '!C5 -> כתב כמויות עבור ציוד עיקרי - תחנת השנאה חולון-חשמל | D8: ='חולון - לפרסום '!N5 -> 29210000
B9: 3 | C9: הקצבים | D9: ='חולון - לפרסום '!$N$6 -> 3328365
A10: גלילות | B10: 1 | C10: ='גלילות-לפרסום'!C4 -> פאושלי - תחנת השנאה - גלילות | D10: ='גלילות-לפרסום'!N4 -> 86016610
B11: 2 | C11: ='גלילות-לפרסום'!C5 -> כתב כמויות עבור ציוד עיקרי - תחנת השנאה גלילות-חשמל | D11: ='גלילות-לפרסום'!N5 -> 29210000
B12: 3 | C12: הקצבים | D12: ='גלילות-לפרסום'!$N$6 -> 3472490

Sheet ראשונים-לפרסום
B1: ='חולון - לפרסום '!B1 -> לתכנון, הקמה, הכנסה לתפעול ותחזוקה של תחנות השנאה (תחנות משנה) בדיפו ראשונים, גלילות, וחולון בקו M1 של רשת המטרו בגוש דן טופס מס' 10 - ההצעה הכספית של המציע
J2: מחיר שנקבע ע"י המזמינה - לא כולל מחירי ציוד מתח עליון עבורם מתבקש המציע למלא מחיר מוצע | N2: ההצעה הכספית
B3: ריכוז הצעת המציע - דיפו ראשונים | J3: =SUM(J4:L6) -> 93990492 | N3: =SUM(N4:Q6) -> 93990492
B4: 1 | C4: פאושלי - תחנת השנאה -דיפו ראשונים | J4: =L10 -> 69400672 | N4: =Q10 -> 69400672
B5: 2 | C5: כתב כמויות עבור ציוד עיקרי - תחנת השנאה דיפו ראשונים-חשמל | J5: =SUM(L11:L31) -> 21297800 | N5: =SUM(Q11:Q31) -> 21297800
B6: 3 | C6: הקצבים | J6: =SUM(L32:L45) -> 3292020 | N6: =SUM(Q32:Q45) -> 3292020
B8: המחירים המוצעים על ידי המציע (בש"ח) יכללו את כול האמור במסמכי המכרז | J8: מחיר שנקבע ע"י המזמינה - לא כולל מחירי ציוד מתח עליון עבורם מתבקש המציע למלא מחיר מוצע | N8: ההצעה הכספית
B9: מס"ד | C9: רכיב בהצעה כספית | D9: מס' רץ | E9: פרק | F9: תיאור הפרק | G9: מס' סעיף | H9: תאור סעיף | I9: ; | J9: מחיר יחידה שנקבע על ידי המזמינה - לא כולל מחירי ציוד מתח עליון עבורם מתבקש המציע למלא מחיר מוצע [₪] | K9: כמות | L9: סה"כ מחיר שנקבע על ידי המזמינה [₪] - למעט מחירי ציוד מתח עליון עבורם מתבקש המציע למלא מחיר מוצע | N9: כמות | O9: למילוי המציע: שיעור הנחה מוצע ביחס למחיר הנקוב. שיעור ההנחה המירבי שמציע יהיה רשאי להציע הינו 30%, יבוטא כאחוז שלילי (-), עד 2 ספרות אחרי הנקודה | P9: מחיר יחידה של המציע לאחר תוספת /הנחה עבור רכיבי מתח עליון המציע מתבקש למלא מחיר מוצע (₪) | Q9: סה"כ הצעת המציע לאחר תוספת / הנחה ומחירים מוצעים לרכיבי מתח עליון
B10: 1 | C10: פאושלי ראשונים- | D10: 1007 | E10: 01 | F10: חלק פאושלי, הכולל השלמת כלל העבודות להן יידרש הקבלן בהתייחס להקמת מבנה חח"י, הקמת מבנה נת"ע, הקמת החצר, ציוד ותשתיות החשמל הנלווים לציוד העיקרי של התחמ"ש (הנכלל בכתב הכמויות- ציוד עיקרי) ויתר העבודות הדרושות להקמת התחמ"ש אשר אינן כלולות בכתב הכמויות ציוד עיקרי והקצבים. | I10: קומפ' | J10: 69400672 | K10: 1 | L10: =J10*K10 -> 69400672 | N10: =K10 -> 1 | O10: 0 | P10: =(O10+100%)*J10 -> 69400672 | Q10: =P10*N10 -> 69400672
B11: 2 | C11: כתב כמויות עבור ציוד עיקרי - ראשונים-חשמל | D11: 1008 | E11: 08 | F11: 1-ציוד מתח עליון | G11: 08.099.0100 | H11: שדה במסדר GIS 170KV מאושר חח"י, לרבות אספקה, התקנה, הרכבה, חיווט, הכנסה לניצול | I11: יח' | K11: 7 | L11: =J11*K11 -> 0 | N11: =K11 -> 7 | Q11: =P11*N11 -> 0
D12: 1009 | E12: 08 | F12: 1-ציוד מתח עליון | G12: 08.099.0101 | H12: לוחות LCC | I12: יח' | K12: 7 | L12: =J12*K12 -> 0 | N12: =K12 -> 7 | Q12: =P12*N12 -> 0
D13: 1010 | E13: 08 | F13: 1-ציוד מתח עליון | G13: 08.099.0102 | H13: SCS לחברת החשמל | I13: יח' | K13: 1 | L13: =J13*K13 -> 0 | N13: =K13 -> 1 | Q13: =P13*N13 -> 0
D14: 1011 | E14: 08 | F14: 2-שנאים HV POWER TRANSFORMER | G14: 08.099.0103 | H14: Design, build and test of a power transformer 90/70 MVA ONAN/ONAF 161/33kV with OLTC, including all accessories and all described in the spec | I14: יח' | J14: 8000000 | K14: 2 | L14: =J14*K14 -> 16000000 | N14: =K14 -> 2 | O14: 0 | P14: =(O14+100%)*J14 -> 8000000 | Q14: =P14*N14 -> 16000000
D15: 1012 | E15: 08 | F15: 2-שנאים HV POWER TRANSFORMER | G15: 08.099.0104 | H15: Transportation to site, assembling and installation, including start-up, commissioning, and site tests. | I15: יח' | J15: 400000 | K15: 2 | L15: =J15*K15 -> 800000 | N15: =K15 -> 2 | O15: 0 | P15: =(O15+100%)*J15 -> 400000 | Q15: =P15*N15 -> 800000
D16: 1013 | E16: 08 | F16: 2-שנאיים GROUNDING TRANSFORMER | G16: 08.099.0105 | H16: Design, build and test of 33kV, 500A grounding transformer including all accessories and all described in the spec | I16: יח' | J16: 120000 | K16: 2 | L16: =J16*K16 -> 240000 | N16: =K16 -> 2 | O16: 0 | P16: =(O16+100%)*J16 -> 120000 | Q16: =P16*N16 -> 240000
D17: 1014 | E17: 08 | F17: 2-שנאיים GROUNDING TRANSFORMER | G17: 08.099.0106 | H17: Transportation to site, assembling and installation, including start-up, commissioning, and site tests. | I17: יח' | J17: 30000 | K17: 2 | L17: =J17*K17 -> 60000 | N17: =K17 -> 2 | O17: 0 | P17: =(O17+100%)*J17 -> 30000 | Q17: =P17*N17 -> 60000
D18: 1015 | E18: 08 | F18: 2-שנאיים MV/LV TRANSFORMER | G18: 08.099.0107 | H18: Unit price for one (1) 250 kVA dry-type transformer as per this specification’s requirements. | I18: יח' | J18: 63400 | K18: 2 | L18: =J18*K18 -> 126800 | N18: =K18 -> 2 | O18: 0 | P18: =(O18+100%)*J18 -> 63400 | Q18: =P18*N18 -> 126800
D19: 1016 | E19: 08 | F19: 2-שנאיים MV/LV TRANSFORMER | G19: 08.099.0108 | H19: Spare parts for one (1) 250 kVA dry-type transformer, as per purchaser’s-approved spare parts list | I19: יח' | J19: 3000 | K19: 2 | L19: =J19*K19 -> 6000 | N19: =K19 -> 2 | O19: 0 | P19: =(O19+100%)*J19 -> 3000 | Q19: =P19*N19 -> 6000
D20: 1017 | E20: 08 | F20: 2-שנאיים MV/LV TRANSFORMER | G20: 08.099.0109 | H20: Unit price for one (1) 1250 kVA dry-type transformer as per this specification’s requirements. | I20: יח' | J20: 300000 | K20: 2 | L20: =J20*K20 -> 600000 | N20: =K20 -> 2 | O20: 0 | P20: =(O20+100%)*J20 -> 300000 | Q20: =P20*N20 -> 600000
D21: 1018 | E21: 08 | F21: 2-שנאיים MV/LV TRANSFORMER | G21: 08.099.0110 | H21: Spare parts for one (1) 1250 kVA dry-type transformer, as per purchaser’s-approved spare parts list | I21: יח' | J21: 5000 | K21: 2 | L21: =J21*K21 -> 10000 | N21: =K21 -> 2 | O21: 0 | P21: =(O21+100%)*J21 -> 5000 | Q21: =P21*N21 -> 10000
D22: 1019 | E22: 08 | F22: 3-לוח חשמל MVP-1 | G22: 08.099.0112 | H22: בסיס ללוח GIS – 33kV, בעל 25 עמודות כמפורט במפרט זה, המחיר כולל העמדה, עיגון ופילוס של כל עמודה למבנה תמיכה מפלדה בחלל החדר. מידות הבסיס - בהתאם למידות הלוח. | I22: יח' | J22: 70000 | K22: 1 | L22: =J22*K22 -> 70000 | N22: =K22 -> 1 | O22: 0 | P22: =(O22+100%)*J22 -> 70000 | Q22: =P22*N22 -> 70000
D23: 1020 | E23: 08 | F23: 3-לוח חשמל MVP-1 | G23: 08.099.0113 | H23: עמודת כניסה עם מפסק, בהתאם לתוכניות הלוח | I23: יח' | J23: 150000 | K23: 2 | L23: =J23*K23 -> 300000 | N23: =K23 -> 2 | O23: 0 | P23: =(O23+100%)*J23 -> 150000 | Q23: =P23*N23 -> 300000
D24: 1021 | E24: 08 | F24: 3-לוח חשמל MVP-1 | G24: 08.099.0114 | H24: עמודת מקשר עם מפסק, בהתאם לתוכניות הלוח | I24: יח' | J24: 150000 | K24: 2 | L24: =J24*K24 -> 300000 | N24: =K24 -> 2 | O24: 0 | P24: =(O24+100%)*J24 -> 150000 | Q24: =P24*N24 -> 300000
D25: 1022 | E25: 08 | F25: 3-לוח חשמל MVP-1 | G25: 08.099.0115 | H25: עמודת יציאה עם מפסק, בהתאם לתוכניות הלוח | I25: יח' | J25: 150000 | K25: 18 | L25: =J25*K25 -> 2700000 | N25: =K25 -> 18 | O25: 0 | P25: =(O25+100%)*J25 -> 150000 | Q25: =P25*N25 -> 2700000
... D31: 1028 | E31: 08 | F31: 3-לוח חשמל MVP-1 | G31: 08.099.0121 | H31: התקנה וחיבור בחדר חשמל בתחמ"ש ראשונים - לרבות הרכבה, חיבור וחיווט ולרבות כל העבודות וחומרי העזר הנדרשים, גם אם הדבר אינו כתוב במפורש | I31: קומפ' | J31: 12000 | K31: 1 | L31: =J31*K31 -> 12000 | N31: =K31 -> 1 | O31: 0 | P31: =(O31+100%)*J31 -> 12000 | Q31: =P31*N31 -> 12000
B32: 3 | C32: הקצבים | D32: 1029 | E32: 99.1 | F32: 1-הקצבים שונים וסעיפים מיוחדים | G32: 99.001.2002 | H32: תשלום בגין סילוק פסולת ועודפי חפירה לרבות העמסה, שינוע ואגרות הטמנה בהתאם לאמור בתנאים המיוחדים/לפי סעיף 22.8 בהסכם | I32: מ"ק | J32: 65 | K32: 500 | L32: =J32*K32 -> 32500 | N32: =K32 -> 500 | P32: =J32 -> 65 | Q32: =P32*N32 -> 32500
D33: 1030 | E33: 99.1 | F33: 1-הקצבים שונים וסעיפים מיוחדים | G33: 99.001.2003 | H33: הקצב עבור פיקוח של הגופים המוסמכים ועבור תשלום אגרות לפי סעיפים 8.5 ו-8.6 להסכם, התשלום יבוצע כנגד הצגת אסמכתאות לתשלומים בפועל על ידי הקבלן | I33: הקצב | J33: 1 | K33: 50000 | L33: =J33*K33 -> 50000 | N33: =K33 -> 50000 | P33: =J33 -> 1 | Q33: =P33*N33 -> 50000
D34: 1031 | E34: 99.1 | F34: 1-הקצבים שונים וסעיפים מיוחדים | G34: 99.001.2004 | H34: הקצב לעבודות לילה במקרים חריגים במיוחד, כמפורט בסעיף 17.1 להסכם ובהתאם לאמור בתנאים המיוחדים, בהתאם להנחיות המפקח בכתב | I34: קומפ' | J34: 5000 | K34: 10 | L34: =J34*K34 -> 50000 | N34: =K34 -> 10 | P34: =J34 -> 5000 | Q34: =P34*N34 -> 50000
D35: 1032 | E35: 99.1 | F35: 1-הקצבים שונים וסעיפים מיוחדים | G35: 99.002.2005 | H35: הקצב בגין תיאום ואספקת שירותים לגוף הציבורי ו/או לקבלן הממונה בהתאם לאמור בסעיף 35.9 להסכם | I35: הקצב | J35: 1 | K35: 50000 | L35: =J35*K35 -> 50000 | N35: =K35 -> 50000 | P35: =J35 -> 1 | Q35: =P35*N35 -> 50000
D36: 1033 | E36: 99.1 | F36: 1-הקצבים שונים וסעיפים מיוחדים | G36: 99.001.2006 | H36: הקצב עבור שירותי אקוסטיקה/אקוסטיקאי, על פי טבלת "שירותים שיבוצעו על ידי אקוסטקאי" בפרק 20 במפרט הדרישות הכלליות | I36: הקצב | J36: 1 | K36: 50000 | L36: =J36*K36 -> 50000 | N36: =K36 -> 50000 | P36: =J36 -> 1 | Q36: =P36*N36 -> 50000
D37: 1034 | E37: 99.1 | F37: 1-הקצבים שונים וסעיפים מיוחדים | G37: 99.001.2007 | H37: קצב עבור צוות מומחה ורשוי לטיפול בקרקע מזוהמת ו/או מי תהום מזוהמים ו/או גזי קרקע (יועצים, דוגמים ומעבדות אנליזה) ודגימות קרקע, גזי קרקע ומי תהום, על פי טבלת "התמורה עבור דיגום קרקע, גזי קרקע ומי תהום" בפרק 20 במפרט הדרישות הכלליות | I37: הקצב | J37: 1 | K37: 25000 | L37: =J37*K37 -> 25000 | N37: =K37 -> 25000 | P37: =J37 -> 1 | Q37: =P37*N37 -> 25000
D38: 1035 | E38: 99.1 | F38: 1-הקצבים שונים וסעיפים מיוחדים | G38: 99.002.2008 | H38: הקצב לצוות מומחה ורשוי לטיפול בחשד להמצאות אסבסט וטיפול במוצרי ושברי אסבסט-צמנט ואסבסט פריך בהתאם להוראות מפרט הדרישות הכלליות בפרק 20 | I38: הקצב | J38: 1 | K38: 25000 | L38: =J38*K38 -> 25000 | N38: =K38 -> 25000 | P38: =J38 -> 1 | Q38: =P38*N38 -> 25000
D39: 1036 | E39: 99.1 | F39: 1-הקצבים שונים וסעיפים מיוחדים | G39: 99.002.20011 | H39: תאומים מול קבלן אינפרה 2 בנושא ממשק מול SCADA, מתכנן/יועץ מנוסה (רמה א' - אקדמאי, בעל מעל 10 שנות ניסיון בתחום הרלוונטי לנושא הממשק) ככול שיידרשו לאחר השלמת כלל התחייבויות החוזיות של הקבלן | I39: ש"ע | J39: 500 | K39: 300 | L39: =J39*K39 -> 150000 | N39: =K39 -> 300 | P39: =J39 -> 500 | Q39: =P39*N39 -> 150000
D40: 1037 | E40: 99.1 | F40: 1-הקצבים שונים וסעיפים מיוחדים | G40: 99.001.20012 | H40: תאומים מול קבלן אינפרה 2 בנושא ממשק מול SCADA, מתכנן/יועץ מנוסה (רמה ב' - אקדמאי, בעל 8-10 שנות ניסיון בתחום הרלוונטי לנושא הממשק) ככול שיידרשו לאחר השלמת כלל התחייבויות החוזיות של הקבלן | I40: ש"ע | J40: 500 | K40: 400 | L40: =J40*K40 -> 200000 | N40: =K40 -> 400 | P40: =J40 -> 500 | Q40: =P40*N40 -> 200000
D41: 1038 | E41: 99.1 | F41: 1-הקצבים שונים וסעיפים מיוחדים | G41: 99.001.20013 | H41: גדר מלוחות פח טרפזי בעובי 0.4 מ"מ מגולוון וצבוע דגם "איסכורית לבניה" תוצרת "אור תעש" או ש"ע בגובה 2.0 מ', לוחות פח איסכורית מונחים בכיוון הגדר ומחוברים לעמודים ע"י ברגים קודחים. העמודים מצינור שחור קוטר "3, מעוגנים בקרקע בעומק של 0.7 מ' כל 3.0 מ' | I41: מ"א | J41: 193 | K41: 2560 | L41: =J41*K41 -> 494080 | N41: =K41 -> 2560 | P41: =J41 -> 193 | Q41: =P41*N41 -> 494080
D42: 1039 | E42: 99.1 | F42: 1-הקצבים שונים וסעיפים מיוחדים | G42: 99.001.20015 | H42: פירוק גדר מלוחות פח דגם "איסכורית" או אלוקובונד ,או ש"ע, בגובה עד 2 מ', לרבות עמודים ויסודות (במידה וקיים) | I42: מ"א | J42: 49 | K42: 2560 | L42: =J42*K42 -> 125440 | N42: =K42 -> 2560 | P42: =J42 -> 49 | Q42: =P42*N42 -> 125440
D43: 1040 | E43: 99.1 | F43: 1-הקצבים שונים וסעיפים מיוחדים | G43: 99.004.2001 | H43: תחזוקה לחצר חח"י, תחזוקה משמרת בהתאם להוראות ההסכם. | I43: חודש | J43: 40000 | K43: 24 | L43: =J43*K43 -> 960000 | N43: =K43 -> 24 | P43: =J43 -> 40000 | Q43: =P43*N43 -> 960000
D44: 1041 | E44: 99.1 | F44: 1-הקצבים שונים וסעיפים מיוחדים | G44: 99.004.2002 | H44: תחזוקה לחצר נת"ע, משמרת משמרת בהתאם להוראות ההסכם. | I44: חודש | J44: 40000 | K44: 24 | L44: =J44*K44 -> 960000 | N44: =K44 -> 24 | P44: =J44 -> 40000 | Q44: =P44*N44 -> 960000
D45: 1042 | E45: 99.1 | F45: 1-הקצבים שונים וסעיפים מיוחדים | G45: 99.004.2003 | H45: הקצב לאבטחת התחמ"ש לאחר החשמול לחצר חח"י + חצר נת"ע ועד מסירת התחמ"ש בהתאם לפרק 29 במפרט הדרישות הכלליות לעבודות קבלניות | I45: חודש | J45: 5000 | K45: 24 | L45: =J45*K45 -> 120000 | N45: =K45 -> 24 | P45: =J45 -> 5000 | Q45: =P45*N45 -> 120000

Sheet חולון - לפרסום  
B1: לתכנון, הקמה, הכנסה לתפעול ותחזוקה של תחנות השנאה (תחנות משנה) בדיפו ראשונים, גלילות, וחולון בקו M1 של רשת המטרו בגוש דן טופס מס' 10 - ההצעה הכספית של המציע
J2: מחיר שנקבע ע"י המזמינה - לא כולל מחירי ציוד מתח עליון עבורם מתבקש המציע למלא מחיר מוצע | N2: ההצעה הכספית
B3: ריכוז הצעת המציע - חולון | J3: =SUM(J4:L6) -> 153832859 | N3: =SUM(N4:Q6) -> 153832859
B4: 1 | C4: פאושלי - תחנת השנאה - חולון | J4: =L10 -> 121294494 | N4: =Q10 -> 121294494
B5: 2 | C5: כתב כמויות עבור ציוד עיקרי - תחנת השנאה חולון-חשמל | J5: =SUM(L11:L30) -> 29210000 | N5: =SUM(Q11:Q30) -> 29210000
B6: 3 | C6: הקצבים | J6: =SUM(L31:L44) -> 3328365 | N6: =SUM(Q31:Q44) -> 3328365
B8: המחירים המוצעים על ידי המציע (בש"ח) יכללו את כול האמור במסמכי המכרז | J8: מחיר שנקבע ע"י המזמינה - לא כולל מחירי ציוד מתח עליון עבורם מתבקש המציע למלא מחיר מוצע | N8: ההצעה הכספית
B9: מס"ד | C9: רכיב בהצעה כספית | D9: מס' רץ | E9: פרק | F9: תיאור הפרק | G9: מס' סעיף | H9: תאור סעיף | I9: יח' מידה | J9: מחיר יחידה שנקבע על ידי המזמינה - לא כולל מחירי ציוד מתח עליון עבורם מתבקש המציע למלא מחיר מוצע [₪] | K9: כמות | L9: סה"כ מחיר שנקבע על ידי המזמינה [₪] - למעט מחירי ציוד מתח עליון עבורם מתבקש המציע למלא מחיר מוצע | N9: כמות | O9: למילוי המציע: שיעור הנחה מוצע ביחס למחיר הנקוב. שיעור ההנחה המירבי שמציע יהיה רשאי להציע הינו 30%, יבוטא כאחוז שלילי (-), עד 2 ספרות אחרי הנקודה | P9: מחיר יחידה של המציע לאחר תוספת /הנחה עבור רכיבי מתח עליון המציע מתבקש למלא מחיר מוצע (₪) | Q9: סה"כ הצעת המציע לאחר תוספת / הנחה ומחירים מוצעים לרכיבי מתח עליון
B10: 1 | C10: פאושלי חולון | D10: 1007 | E10: 01 | F10: חלק פאושלי, הכולל השלמת כלל העבודות להן יידרש הקבלן בהתייחס להקמת מבנה חח"י, הקמת מבנה נת"ע, הקמת החצר, ציוד ותשתיות החשמל הנלווים לציוד העיקרי של התחמ"ש (הנכלל בכתב הכמויות- ציוד עיקרי), כלל העבודות הנדרשות לביצוע קירות סלארי ותקרה עבור מפלג תת קרקעי , חיפוי פנלים, כלונסאות שליפה ויתר העבודות הדרושות להקמת התחמ"ש אשר אינן כלולות בכתב הכמויות ציוד עיקרי והקצבים. | I10: קומפ' | J10: 121294494 | K10: 1 | L10: =J10*N10 -> 121294494 | N10: =K10 -> 1 | P10: =(O10+100%)*J10 -> 121294494 | Q10: =P10*N10 -> 121294494
B11: 2 | C11: כתב כמויות עבור ציוד עיקרי - חולון-חשמל | D11: 1008 | E11: 08 | F11: 1-ציוד מתח עליון | G11: 08.099.0100 | H11: SF6 switchgear GIS 170KV, DSS05 Holon .Single line diagram M1-MET-DEA-M1032-RS01-ELE-AAA-GN-01 and Layout drawing M1-MET-DEA-M1032-RS01-ELE-AAA-PL002. OH Line 1 - Ayalon FIELD # 3 . Including LCC, BCU, METERING, GAS MONITORING PANELS | I11: יח' | K11: 1 | L11: =J11*N11 -> 0 | N11: =K11 -> 1 | Q11: =P11*N11 -> 0
D12: 1009 | E12: 08 | F12: 1-ציוד מתח עליון | G12: 08.099.0101 | H12: SF6 switchgear GIS 170KV, DSS05 Holon .Single line diagram M1-MET-DEA-M1032-RS01-ELE-AAA-GN-01 and Layout drawing M1-MET-DEA-M1032-RS01-ELE-AAA-PL002. OH Line 2 - Tel-Giborim FIELD # 6 . Including LCC, BCU, METERING, GAS MONITORING PANELS | I12: יח' | K12: 1 | L12: =J12*N12 -> 0 | N12: =K12 -> 1 | Q12: =P12*N12 -> 0
D13: 1010 | E13: 08 | F13: 1-ציוד מתח עליון | G13: 08.099.0102 | H13: SF6 switchgear GIS 170KV, DSS05 Holon .Single line diagram M1-MET-DEA-M1032-RS01-ELE-AAA-GN-01 and Layout drawing M1-MET-DEA-M1032-RS01-ELE-AAA-PL002. OH Line Future - FIELD # 8 & 9 . Including LCC, BCU, METERING, GAS MONITORING PANELS | I13: יח' | K13: 2 | L13: =J13*N13 -> 0 | N13: =K13 -> 2 | Q13: =P13*N13 -> 0
D14: 1011 | E14: 08 | F14: 1-ציוד מתח עליון | G14: 08.099.0103 | H14: SF6 switchgear GIS 170KV, DSS05 Holon .Single line diagram M1-MET-DEA-M1032-RS01-ELE-AAA-GN-01 and Layout drawing M1-MET-DEA-M1032-RS01-ELE-AAA-PL002. Bus Coupler - FIELD # 4 . Including LCC, BCU, METERING, GAS MONITORING PANELS | I14: יח' | K14: 1 | L14: =J14*N14 -> 0 | N14: =K14 -> 1 | Q14: =P14*N14 -> 0
D15: 1012 | E15: 08 | F15: 1-ציוד מתח עליון | G15: 08.099.0104 | H15: SF6 switchgear GIS 170KV, DSS05 Holon .Single line diagram M1-MET-DEA-M1032-RS01-ELE-AAA-GN-01 and Layout drawing M1-MET-DEA-M1032-RS01-ELE-AAA-PL002. V.T's - FIELD # 5 . Including LCC, BCU, METERING, GAS MONITORING PANELS | I15: יח' | K15: 1 | L15: =J15*N15 -> 0 | N15: =K15 -> 1 | Q15: =P15*N15 -> 0
D16: 1013 | E16: 08 | F16: 1-ציוד מתח עליון | G16: 08.099.0105 | H16: SF6 switchgear GIS 170KV, DSS05 Holon .Single line diagram M1-MET-DEA-M1032-RS01-ELE-AAA-GN-01 and Layout drawing M1-MET-DEA-M1032-RS01-ELE-AAA-PL002. Power Transformer 531 - FIELD # 2 . Including LCC, BCU, METERING, GAS MONITORING PANELS | I16: יח' | K16: 1 | L16: =J16*N16 -> 0 | N16: =K16 -> 1 | Q16: =P16*N16 -> 0
D17: 1014 | E17: 08 | F17: 1-ציוד מתח עליון | G17: 08.099.0106 | H17: SF6 switchgear GIS 170KV, DSS05 Holon .Single line diagram M1-MET-DEA-M1032-RS01-ELE-AAA-GN-01 and Layout drawing M1-MET-DEA-M1032-RS01-ELE-AAA-PL002. Power Transformer 533 - FIELD # 7.Including Q10 & Q20. Including LCC, BCU, METERING, GAS MONITORING PANELS | I17: יח' | K17: 1 | L17: =J17*N17 -> 0 | N17: =K17 -> 1 | Q17: =P17*N17 -> 0
D18: 1015 | E18: 08 | F18: 1-ציוד מתח עליון | G18: 08.099.0107 | H18: Spare parts according to "נוהל חיבור לקוחות - חברת החשמל " | I18: קומפלט | J18: 2000000 | K18: 1 | L18: =J18*N18 -> 2000000 | N18: =K18 -> 1 | O18: 0 | P18: =(O18+100%)*J18 -> 2000000 | Q18: =P18*N18 -> 2000000
D19: 1016 | E19: 08 | F19: 1-ציוד מתח עליון | G19: 08.099.0108 | H19: Special tools for GIS erection, installation ,testing and maintenance | I19: קומפלט | J19: 500000 | K19: 1 | L19: =J19*N19 -> 500000 | N19: =K19 -> 1 | O19: 0 | P19: =(O19+100%)*J19 -> 500000 | Q19: =P19*N19 -> 500000
D20: 1017 | E20: 08 | F20: 1-ציוד מתח עליון | G20: 08.099.0109 | H20: HV test equipment for, HV AC testing of the GIS on returnable basis including Qualified Professional Supervisor . | I20: קומפלט | J20: 350000 | K20: 1 | L20: =J20*N20 -> 350000 | N20: =K20 -> 1 | O20: 0 | P20: =(O20+100%)*J20 -> 350000 | Q20: =P20*N20 -> 350000
D21: 1018 | E21: 08 | F21: 2-שנאיים HV | G21: 08.099.0200 | H21: Power transformer 90/70 MVA ONAN/ONAF 161/33kV with OLTC, in accordance with all provisions of the contract | I21: קומפלט | J21: 10000000 | K21: 2 | L21: =J21*N21 -> 20000000 | N21: =K21 -> 2 | O21: 0 | P21: =(O21+100%)*J21 -> 10000000 | Q21: =P21*N21 -> 20000000
D22: 1019 | E22: 08 | F22: 2-שנאיים HV | G22: 08.099.0210 | H22: Grounding transformer 33kV, 500A, in accordance with all provisions of the contract | I22: קומפלט | J22: 50000 | K22: 2 | L22: =J22*N22 -> 100000 | N22: =K22 -> 2 | O22: 0 | P22: =(O22+100%)*J22 -> 50000 | Q22: =P22*N22 -> 100000
D23: 1020 | E23: 08 | F23: 2-שנאיים MV/LV | G23: 08.099.0220 | H23: Dry Transformer 400 kVA in accordance with all provisions of the contract | I23: קומפלט | J23: 130000 | K23: 2 | L23: =J23*N23 -> 260000 | N23: =K23 -> 2 | O23: 0 | P23: =(O23+100%)*J23 -> 130000 | Q23: =P23*N23 -> 260000
D24: 1021 | E24: 08 | F24: 3-לוח חשמל MVP-1 | G24: 08.099.0300 | H24: 33kV SF6 switchgear according to single line diagram number M1-MET-DEA-M1032-RS01-ELE-AAA-GN-04. Incomer feeder | I24: יח' | J24: 250000 | K24: 2 | L24: =J24*N24 -> 500000 | N24: =K24 -> 2 | O24: 0 | P24: =(O24+100%)*J24 -> 250000 | Q24: =P24*N24 -> 500000
D25: 1022 | E25: 08 | F25: 3-לוח חשמל MVP-1 | G25: 08.099.0310 | H25: 33kV SF6 switchgear according to single line diagram number M1-MET-DEA-M1032-RS01-ELE-AAA-GN-04. Incomer feeder | I25: יח' | J25: 250000 | K25: 2 | L25: =J25*N25 -> 500000 | N25: =K25 -> 2 | O25: 0 | P25: =(O25+100%)*J25 -> 250000 | Q25: =P25*N25 -> 500000
D26: 1023 | E26: 08 | F26: 3-לוח חשמל MVP-1 | G26: 08.099.0320 | H26: 33kV SF6 switchgear according to single line diagram number M1-MET-DEA-M1032-RS01-ELE-AAA-GN-04. Outgoing feeder | I26: יח' | J26: 250000 | K26: 18 | L26: =J26*N26 -> 4500000 | N26: =K26 -> 18 | O26: 0 | P26: =(O26+100%)*J26 -> 250000 | Q26: =P26*N26 -> 4500000
D27: 1024 | E27: 08 | F27: 3-לוח חשמל MVP-1 | G27: 08.099.0330 | H27: 33kV SF6 switchgear according to single line diagram number M1-MET-DEA-M1032-RS01-ELE-AAA-GN-04. Buscoupler (Tie) | I27: יח' | J27: 50000 | K27: 2 | L27: =J27*N27 -> 100000 | N27: =K27 -> 2 | O27: 0 | P27: =(O27+100%)*J27 -> 50000 | Q27: =P27*N27 -> 100000
D28: 1025 | E28: 08 | F28: 3-לוח חשמל MVP-1 | G28: 08.099.0340 | H28: 33kV SF6 switchgear according to single line diagram number M1-MET-DEA-M1032-RS01-ELE-AAA-GN-04. Measurment | I28: יח' | J28: 50000 | K28: 2 | L28: =J28*N28 -> 100000 | N28: =K28 -> 2 | O28: 0 | P28: =(O28+100%)*J28 -> 50000 | Q28: =P28*N28 -> 100000
D29: 1026 | E29: 08 | F29: 3-לוח חשמל MVP-1 | G29: 08.099.0350 | H29: Special tools for GIS erection, installation ,testing and maintenance | I29: קומפלט | J29: 250000 | K29: 1 | L29: =J29*N29 -> 250000 | N29: =K29 -> 1 | O29: 0 | P29: =(O29+100%)*J29 -> 250000 | Q29: =P29*N29 -> 250000
D30: 1027 | E30: 08 | F30: 3-לוח חשמל MVP-1 | G30: 08.099.0360 | H30: ארון בטיחות כולל כל הציוד, לרבות כובע מגן, כפפות, שלטים תפעוליים, פנס נטען, בודק מתח 33 ק"ו, שטיח 30 ק"ו, 3 מקצריפ תלת פאזים, בהתאם להוראות ההסכם | I30: יח' | J30: 50000 | K30: 1 | L30: =J30*N30 -> 50000 | N30: =K30 -> 1 | O30: 0 | P30: =(O30+100%)*J30 -> 50000 | Q30: =P30*N30 -> 50000
B31: 3 | C31: הקצבים | D31: 1028 | E31: 99.1 | F31: 1-הקצבים שונים וסעיפים מיוחדים | G31: 99.002.2002 | H31: תשלום בגין סילוק פסולת ועודפי חפירה לרבות העמסה, שינוע ואגרות הטמנה בהתאם לאמור בתנאים המיוחדים/לפי סעיף 22.8 בהסכם | I31: מ"ק | J31: 65 | K31: 5001 | L31: =J31*N31 -> 325065 | N31: =K31 -> 5001 | P31: =J31 -> 65 | Q31: =P31*N31 -> 325065
D32: 1029 | E32: 99.1 | F32: 1-הקצבים שונים וסעיפים מיוחדים | G32: 99.001.2003 | H32: הקצב עבור פיקוח של הגופים המוסמכים ועבור תשלום אגרות לפי סעיפים 8.5 ו-8.6 להסכם, התשלום יבוצע כנגד הצגת אסמכתאות לתשלומים בפועל על ידי הקבלן | I32: הקצב | J32: 1 | K32: 50000 | L32: =J32*N32 -> 50000 | N32: =K32 -> 50000 | P32: =J32 -> 1 | Q32: =P32*N32 -> 50000
D33: 1030 | E33: 99.1 | F33: 1-הקצבים שונים וסעיפים מיוחדים | G33: 99.001.2004 | H33: הקצב לעבודות לילה במקרים חריגים במיוחד, כמפורט בסעיף 17.1 להסכם ובהתאם לאמור בתנאים המיוחדים, בהתאם להנחיות המפקח בכתב | I33: קומפ' | J33: 5000 | K33: 10 | L33: =J33*N33 -> 50000 | N33: =K33 -> 10 | P33: =J33 -> 5000 | Q33: =P33*N33 -> 50000
D34: 1031 | E34: 99.1 | F34: 1-הקצבים שונים וסעיפים מיוחדים | G34: 99.002.2005 | H34: הקצב בגין תיאום ואספקת שירותים לגוף הציבורי ו/או לקבלן הממונה בהתאם לאמור בסעיף 35.9 להסכם | I34: הקצב | J34: 1 | K34: 50000 | L34: =J34*N34 -> 50000 | N34: =K34 -> 50000 | P34: =J34 -> 1 | Q34: =P34*N34 -> 50000
D35: 1032 | E35: 99.1 | F35: 1-הקצבים שונים וסעיפים מיוחדים | G35: 99.001.2006 | H35: הקצב עבור שירותי אקוסטיקה/אקוסטיקאי, על פי טבלת "שירותים שיבוצעו על ידי אקוסטקאי" בפרק 20 במפרט הדרישות הכלליות | I35: הקצב | J35: 1 | K35: 50000 | L35: =J35*N35 -> 50000 | N35: =K35 -> 50000 | P35: =J35 -> 1 | Q35: =P35*N35 -> 50000
D36: 1033 | E36: 99.1 | F36: 1-הקצבים שונים וסעיפים מיוחדים | G36: 99.001.2007 | H36: קצב עבור צוות מומחה ורשוי לטיפול בקרקע מזוהמת ו/או מי תהום מזוהמים ו/או גזי קרקע (יועצים, דוגמים ומעבדות אנליזה) ודגימות קרקע, גזי קרקע ומי תהום, על פי טבלת "התמורה עבור דיגום קרקע, גזי קרקע ומי תהום" בפרק 20 במפרט הדרישות הכלליות | I36: הקצב | J36: 1 | K36: 25000 | L36: =J36*N36 -> 25000 | N36: =K36 -> 25000 | P36: =J36 -> 1 | Q36: =P36*N36 -> 25000
D37: 1034 | E37: 99.1 | F37: 1-הקצבים שונים וסעיפים מיוחדים | G37: 99.002.2008 | H37: הקצב לצוות מומחה ורשוי לטיפול בחשד להמצאות אסבסט וטיפול במוצרי ושברי אסבסט-צמנט ואסבסט פריך בהתאם להוראות מפרט הדרישות הכלליות בפרק 20 | I37: הקצב | J37: 1 | K37: 25000 | L37: =J37*N37 -> 25000 | N37: =K37 -> 25000 | P37: =J37 -> 1 | Q37: =P37*N37 -> 25000
D38: 1035 | E38: 99.1 | F38: 1-הקצבים שונים וסעיפים מיוחדים | G38: 99.002.20011 | H38: תאומים מול קבלן אינפרה 2 בנושא ממשק מול SCADA, מתכנן/יועץ מנוסה (רמה א' - אקדמאי, בעל מעל 10 שנות ניסיון בתחום הרלוונטי לנושא הממשק) ככול שיידרשו לאחר השלמת כלל התחייבויות החוזיות של הקבלן | I38: ש"ע | J38: 500 | K38: 300 | L38: =J38*N38 -> 150000 | N38: =K38 -> 300 | P38: =J38 -> 500 | Q38: =P38*N38 -> 150000
D39: 1036 | E39: 99.1 | F39: 1-הקצבים שונים וסעיפים מיוחדים | G39: 99.001.20012 | H39: תאומים מול קבלן אינפרה 2 בנושא ממשק מול SCADA, מתכנן/יועץ מנוסה (רמה ב' - אקדמאי, בעל 8-10 שנות ניסיון בתחום הרלוונטי לנושא הממשק) ככול שיידרשו לאחר השלמת כלל התחייבויות החוזיות של הקבלן | I39: ש"ע | J39: 500 | K39: 400 | L39: =J39*N39 -> 200000 | N39: =K39 -> 400 | P39: =J39 -> 500 | Q39: =P39*N39 -> 200000
D40: 1037 | E40: 99.1 | F40: 1-הקצבים שונים וסעיפים מיוחדים | G40: 99.44.011.0560 | H40: גדר מפנל מבודד בעובי 50 מ"מ, הפנל עשוי מפח עליון ותחתון מגולוונים וצבועים עם בידוד פוליסטירן מוקצף (קל-קר), הגדר בגובה עד 2.0 מ', לרבות פרופיל סגירה U עליון ותחתון, אביזרי חיבור, עמודים מגולוונים מצינור קוטר 2/"3 כל 3.0 מ' ויסודות בטון או מעוגנים בקרקע בעומק של 0.7 מ' | I40: מ"ר | J40: 1400 | K40: 235 | L40: =J40*N40 -> 329000 | N40: =K40 -> 235 | P40: =J40 -> 1400 | Q40: =P40*N40 -> 329000
D41: 1038 | E41: 99.1 | F41: 1-הקצבים שונים וסעיפים מיוחדים | G41: 99.001.20015 | H41: פירוק גדר מלוחות פח דגם פנל בגובה עד 2 מ', לרבות עמודים ויסודות (במידה וקיים) | I41: מ"א | J41: 700 | K41: 49 | L41: =J41*N41 -> 34300 | N41: =K41 -> 49 | P41: =J41 -> 700 | Q41: =P41*N41 -> 34300
D42: 1039 | E42: 99.1 | F42: 1-הקצבים שונים וסעיפים מיוחדים | G42: 99.004.2001 | H42: תחזוקה לחצר חח"י, תחזוקה משמרת בהתאם להוראות ההסכם. | I42: חודש | J42: 40000 | K42: 24 | L42: =J42*K42 -> 960000 | N42: =K42 -> 24 | P42: =J42 -> 40000 | Q42: =P42*N42 -> 960000
D43: 1040 | E43: 99.1 | F43: 1-הקצבים שונים וסעיפים מיוחדים | G43: 99.004.2002 | H43: תחזוקה לחצר נת"ע, משמרת משמרת בהתאם להוראות ההסכם. | I43: חודש | J43: 40000 | K43: 24 | L43: =J43*K43 -> 960000 | N43: =K43 -> 24 | P43: =J43 -> 40000 | Q43: =P43*N43 -> 960000
D44: 1041 | E44: 99.1 | F44: 1-הקצבים שונים וסעיפים מיוחדים | G44: 99.004.2003 | H44: הקצב לאבטחת התחמ"ש לאחר החשמול לחצר חח"י + חצר נת"ע ועד מסירת התחמ"ש בהתאם לפרק 29 במפרט הדרישות הכלליות לעבודות קבלניות | I44: חודש | J44: 5000 | K44: 24 | L44: =J44*K44 -> 120000 | N44: =K44 -> 24 | P44: =J44 -> 5000 | Q44: =P44*N44 -> 120000

Sheet גלילות-לפרסום
B1: ='חולון - לפרסום '!B1 -> לתכנון, הקמה, הכנסה לתפעול ותחזוקה של תחנות השנאה (תחנות משנה) בדיפו ראשונים, גלילות, וחולון בקו M1 של רשת המטרו בגוש דן טופס מס' 10 - ההצעה הכספית של המציע
J2: מחיר שנקבע ע"י המזמינה - לא כולל מחירי ציוד מתח עליון עבורם מתבקש המציע למלא מחיר מוצע | N2: ההצעה הכספית
B3: ריכוז הצעת המציע - גלילות | J3: =SUM(J4:L6) -> 118699100 | N3: =SUM(N4:Q6) -> 118699100
B4: 1 | C4: פאושלי - תחנת השנאה - גלילות | J4: =L10 -> 86016610 | N4: =Q10 -> 86016610
B5: 2 | C5: כתב כמויות עבור ציוד עיקרי - תחנת השנאה גלילות-חשמל | J5: =SUM(L11:L30) -> 29210000 | N5: =SUM(Q11:Q30) -> 29210000
B6: 3 | C6: הקצבים | J6: =SUM(L31:L44) -> 3472490 | N6: =SUM(Q31:Q44) -> 3472490
B8: המחירים המוצעים על ידי המציע (בש"ח) יכללו את כול האמור במסמכי המכרז | J8: מחיר שנקבע ע"י המזמינה - לא כולל מחירי ציוד מתח עליון עבורם מתבקש המציע למלא מחיר מוצע | N8: ההצעה הכספית
B9: מס"ד | C9: רכיב בהצעה כספית | D9: מס' רץ | E9: פרק | F9: תיאור הפרק | G9: מס' סעיף | H9: תאור סעיף | I9: יח' מידה | J9: מחיר יחידה שנקבע על ידי המזמינה - לא כולל מחירי ציוד מתח עליון עבורם מתבקש המציע למלא מחיר מוצע [₪] | K9: כמות | L9: סה"כ מחיר שנקבע על ידי המזמינה [₪] - למעט מחירי ציוד מתח עליון עבורם מתבקש המציע למלא מחיר מוצע | N9: כמות | O9: למילוי המציע: שיעור הנחה מוצע ביחס למחיר הנקוב. שיעור ההנחה המירבי שמציע יהיה רשאי להציע הינו 30%, יבוטא כאחוז שלילי (-), עד 2 ספרות אחרי הנקודה | P9: מחיר יחידה של המציע לאחר תוספת /הנחה עבור רכיבי מתח עליון המציע מתבקש למלא מחיר מוצע (₪) | Q9: סה"כ הצעת המציע לאחר תוספת / הנחה ומחירים מוצעים לרכיבי מתח עליון
B10: 1 | C10: פאושלי גלילות | D10: 1007 | E10: 01 | F10: חלק פאושלי, הכולל השלמת כלל העבודות להן יידרש הקבלן בהתייחס להקמת מבנים עבור חח"י (כולל רחבות), הקמת מבנה נת"ע, הקמת החצר, ציוד ותשתיות החשמל הנלווים לציוד העיקרי של התחמ"ש (הנכלל בכתב הכמויות- ציוד עיקרי) ויתר העבודות הדרושות להקמת התחמ"ש אשר אינן כלולות בכתב הכמויות ציוד עיקרי והקצבים. | I10: קומפ' | J10: 86016610 | K10: 1 | L10: =J10*K10 -> 86016610 | N10: =K10 -> 1 | O10: 0 | P10: =(O10+100%)*J10 -> 86016610 | Q10: =P10*N10 -> 86016610
B11: 2 | C11: כתב כמויות עבור ציוד עיקרי - גלילות-חשמל | D11: 1008 | E11: 08 | F11: 1-ציוד מתח עליון | G11: 08.099.0100 | H11: SF6 switchgear GIS 170KV, DSS02 Glilot .Single line diagram M1-MET-DEA-M1056-RS01-ELE-AAA-GN-01 and Layout drawing M1-MET-DEA-M1056-RS01-ELE-AAA-PL-02. U/G Line 1 - Morasha FIELD # 4 .Including Q10 & Q20 . Including LCC, BCU, METERING, GAS MONITORING PANELS | I11: יח' | K11: 1 | L11: =J11*K11 -> 0 | N11: =K11 -> 1 | Q11: =P11*N11 -> 0
D12: 1009 | E12: 08 | F12: 1-ציוד מתח עליון | G12: 08.099.0101 | H12: SF6 switchgear GIS 170KV, DSS02 Glilot .Single line diagram M1-MET-DEA-M1056-RS01-ELE-AAA-GN-01 and Layout drawing M1-MET-DEA-M1056-RS01-ELE-AAA-PL-02. U/G Line 2 - Morasha FIELD # 9 .Including Q30 & Q40 . Including LCC, BCU, METERING, GAS MONITORING PANELS | I12: יח' | K12: 1 | L12: =J12*K12 -> 0 | N12: =K12 -> 1 | Q12: =P12*N12 -> 0
D13: 1010 | E13: 08 | F13: 1-ציוד מתח עליון | G13: 08.099.0102 | H13: SF6 switchgear GIS 170KV, DSS02 Glilot .Single line diagram M1-MET-DEA-M1056-RS01-ELE-AAA-GN-01 and Layout drawing M1-MET-DEA-M1056-RS01-ELE-AAA-PL-02. Future U/G Line - FIELDs # 1,2,3,11 . Including LCC, BCU, METERING, GAS MONITORING PANELS | I13: יח' | K13: 2 | L13: =J13*K13 -> 0 | N13: =K13 -> 2 | Q13: =P13*N13 -> 0
D14: 1011 | E14: 08 | F14: 1-ציוד מתח עליון | G14: 08.099.0103 | H14: SF6 switchgear GIS 170KV, DSS02 Glilot .Single line diagram M1-MET-DEA-M1056-RS01-ELE-AAA-GN-01 and Layout drawing M1-MET-DEA-M1056-RS01-ELE-AAA-PL002. Future transformer - FIELD # 10,12 . Including LCC, BCU, METERING, GAS MONITORING PANELS | I14: יח' | K14: 4 | L14: =J14*K14 -> 0 | N14: =K14 -> 4 | Q14: =P14*N14 -> 0
D15: 1012 | E15: 08 | F15: 1-ציוד מתח עליון | G15: 08.099.0104 | H15: SF6 switchgear GIS 170KV, DSS02 Glilot .Single line diagram M1-MET-DEA-M1056-RS01-ELE-AAA-GN-01 and Layout drawing M1-MET-DEA-M1056-RS01-ELE-AAA-PL-02. V.T's - FIELD # 7 . Including LCC, BCU, METERING, GAS MONITORING PANELS | I15: יח' | K15: 1 | L15: =J15*K15 -> 0 | N15: =K15 -> 1 | Q15: =P15*N15 -> 0
D16: 1013 | E16: 08 | F16: 1-ציוד מתח עליון | G16: 08.099.0105 | H16: SF6 switchgear GIS 170KV, DSS02 Glilot .Single line diagram M1-MET-DEA-M1056-RS01-ELE-AAA-GN-01 and Layout drawing M1-MET-DEA-M1056-RS01-ELE-AAA-PL-02. Buscoupler - FIELD # 6 . Including LCC, BCU, METERING, GAS MONITORING PANELS | I16: יח' | K16: 1 | L16: =J16*K16 -> 0 | N16: =K16 -> 1 | Q16: =P16*N16 -> 0
D17: 1014 | E17: 08 | F17: 1-ציוד מתח עליון | G17: 08.099.0106 | H17: SF6 switchgear GIS 170KV, DSS02 Glilot .Single line diagram M1-MET-DEA-M1056-RS01-ELE-AAA-GN-01 and Layout drawing M1-MET-DEA-M1056-RS01-ELE-AAA-PL-02. transformer - FIELD # 5,8 . Including LCC, BCU, METERING, GAS MONITORING PANELS | I17: יח' | K17: 2 | L17: =J17*K17 -> 0 | N17: =K17 -> 2 | Q17: =P17*N17 -> 0
D18: 1015 | E18: 08 | F18: 1-ציוד מתח עליון | G18: 08.099.0107 | H18: Spare parts according to "נוהל חיבור לקוחות - חברת החשמל " | I18: קומפלט | J18: 2000000 | K18: 1 | L18: =J18*K18 -> 2000000 | N18: =K18 -> 1 | O18: ='חולון - לפרסום '!O18 -> 0 | P18: =(O18+100%)*J18 -> 2000000 | Q18: =P18*N18 -> 2000000
D19: 1016 | E19: 08 | F19: 1-ציוד מתח עליון | G19: 08.099.0108 | H19: Special tools for GIS erection, installation ,testing and maintenance | I19: קומפלט | J19: 500000 | K19: 1 | L19: =J19*K19 -> 500000 | N19: =K19 -> 1 | O19: ='חולון - לפרסום '!O19 -> 0 | P19: =(O19+100%)*J19 -> 500000 | Q19: =P19*N19 -> 500000
D20: 1017 | E20: 08 | F20: 1-ציוד מתח עליון | G20: 08.099.0109 | H20: HV test equipment for, HV AC testing of the GIS on returnable basis including Qualified Professional Supervisor . | I20: קומפלט | J20: 350000 | K20: 1 | L20: =J20*K20 -> 350000 | N20: =K20 -> 1 | O20: ='חולון - לפרסום '!O20 -> 0 | P20: =(O20+100%)*J20 -> 350000 | Q20: =P20*N20 -> 350000
D21: 1018 | E21: 08 | F21: 2-שנאיים HV | G21: 08.099.0200 | H21: Power transformer 90/70 MVA ONAN/ONAF 161/33kV with OLTC, in accordance with all provisions of the contract | I21: קומפלט | J21: 10000000 | K21: 2 | L21: =J21*K21 -> 20000000 | N21: =K21 -> 2 | O21: ='חולון - לפרסום '!O21 -> 0 | P21: =(O21+100%)*J21 -> 10000000 | Q21: =P21*N21 -> 20000000
D22: 1019 | E22: 08 | F22: 2-שנאיים HV | G22: 08.099.0210 | H22: Grounding transformer 33kV, 500A, in accordance with all provisions of the contract | I22: קומפלט | J22: 50000 | K22: 2 | L22: =J22*K22 -> 100000 | N22: =K22 -> 2 | O22: ='חולון - לפרסום '!O22 -> 0 | P22: =(O22+100%)*J22 -> 50000 | Q22: =P22*N22 -> 100000
D23: 1020 | E23: 08 | F23: 2-שנאיים MV/LV | G23: 08.099.0220 | H23: Dry Transformer 400 kVA in accordance with all provisions of the contract | I23: קומפלט | J23: 130000 | K23: 2 | L23: =J23*K23 -> 260000 | N23: =K23 -> 2 | O23: ='חולון - לפרסום '!O23 -> 0 | P23: =(O23+100%)*J23 -> 130000 | Q23: =P23*N23 -> 260000
D24: 1021 | E24: 08 | F24: 3-לוח חשמל MVP-1 | G24: 08.099.0300 | H24: 33kV SF6 switchgear according to single line diagram number M1-MET-DEA-M1056-RS01-ELE-AAA-GN-04. Incomer feeder | I24: יח' | J24: 250000 | K24: 2 | L24: =J24*K24 -> 500000 | N24: =K24 -> 2 | O24: ='חולון - לפרסום '!O24 -> 0 | P24: =(O24+100%)*J24 -> 250000 | Q24: =P24*N24 -> 500000
D25: 1022 | E25: 08 | F25: 3-לוח חשמל MVP-1 | G25: 08.099.0310 | H25: 33kV SF6 switchgear according to single line diagram number M1-MET-DEA-M1056-RS01-ELE-AAA-GN-04. Incomer feeder | I25: יח' | J25: 250000 | K25: 2 | L25: =J25*K25 -> 500000 | N25: =K25 -> 2 | O25: ='חולון - לפרסום '!O25 -> 0 | P25: =(O25+100%)*J25 -> 250000 | Q25: =P25*N25 -> 500000
D26: 1023 | E26: 08 | F26: 3-לוח חשמל MVP-1 | G26: 08.099.0320 | H26: 33kV SF6 switchgear according to single line diagram number M1-MET-DEA-M1056-RS01-ELE-AAA-GN-04. Outgoing feeder | I26: יח' | J26: 250000 | K26: 18 | L26: =J26*K26 -> 4500000 | N26: =K26 -> 18 | O26: ='חולון - לפרסום '!O26 -> 0 | P26: =(O26+100%)*J26 -> 250000 | Q26: =P26*N26 -> 4500000
D27: 1024 | E27: 08 | F27: 3-לוח חשמל MVP-1 | G27: 08.099.0330 | H27: 33kV SF6 switchgear according to single line diagram number M1-MET-DEA-M1056-RS01-ELE-AAA-GN-04. Buscoupler (Tie) | I27: יח' | J27: 50000 | K27: 2 | L27: =J27*K27 -> 100000 | N27: =K27 -> 2 | O27: ='חולון - לפרסום '!O27 -> 0 | P27: =(O27+100%)*J27 -> 50000 | Q27: =P27*N27 -> 100000
D28: 1025 | E28: 08 | F28: 3-לוח חשמל MVP-1 | G28: 08.099.0340 | H28: 33kV SF6 switchgear according to single line diagram number M1-MET-DEA-M1056-RS01-ELE-AAA-GN-04. Measurment | I28: יח' | J28: 50000 | K28: 2 | L28: =J28*K28 -> 100000 | N28: =K28 -> 2 | O28: ='חולון - לפרסום '!O28 -> 0 | P28: =(O28+100%)*J28 -> 50000 | Q28: =P28*N28 -> 100000
D29: 1026 | E29: 08 | F29: 3-לוח חשמל MVP-1 | G29: 08.099.0350 | H29: Special tools for 33KV SF6 GIS erection, installation ,testing and maintenance | I29: קומפלט | J29: 250000 | K29: 1 | L29: =J29*K29 -> 250000 | N29: =K29 -> 1 | O29: ='חולון - לפרסום '!O29 -> 0 | P29: =(O29+100%)*J29 -> 250000 | Q29: =P29*N29 -> 250000
D30: 1027 | E30: 08 | F30: 3-לוח חשמל MVP-1 | G30: 08.099.0360 | H30: ארון בטיחות כולל כל הציוד, לרבות כובע מגן, כפפות, שלטים תפעוליים, פנס נטען, בודק מתח 33 ק"ו, שטיח 30 ק"ו, 3 מקצריפ תלת פאזים, בהתאם להוראות ההסכם | I30: יח' | J30: 50000 | K30: 1 | L30: =J30*K30 -> 50000 | N30: =K30 -> 1 | O30: ='חולון - לפרסום '!O30 -> 0 | P30: =(O30+100%)*J30 -> 50000 | Q30: =P30*N30 -> 50000
B31: 3 | C31: הקצבים | D31: 1028 | E31: 99.1 | F31: 1-הקצבים שונים וסעיפים מיוחדים | G31: 99.002.2002 | H31: תשלום בגין סילוק פסולת ועודפי חפירה לרבות העמסה, שינוע ואגרות הטמנה בהתאם לאמור בתנאים המיוחדים/לפי סעיף 22.8 בהסכם | I31: מ"ק | J31: 65 | K31: 1150 | L31: =J31*K31 -> 74750 | N31: =K31 -> 1150 | P31: =J31 -> 65 | Q31: =P31*N31 -> 74750
D32: 1029 | E32: 99.1 | F32: 1-הקצבים שונים וסעיפים מיוחדים | G32: 99.001.2003 | H32: הקצב עבור פיקוח של הגופים המוסמכים ועבור תשלום אגרות לפי סעיפים 8.5 ו-8.6 להסכם, התשלום יבוצע כנגד הצגת אסמכתאות לתשלומים בפועל על ידי הקבלן | I32: הקצב | J32: 1 | K32: 50000 | L32: =J32*K32 -> 50000 | N32: =K32 -> 50000 | P32: =J32 -> 1 | Q32: =P32*N32 -> 50000
D33: 1030 | E33: 99.1 | F33: 1-הקצבים שונים וסעיפים מיוחדים | G33: 99.001.2004 | H33: הקצב לעבודות לילה במקרים חריגים במיוחד, כמפורט בסעיף 17.1 להסכם ובהתאם לאמור בתנאים המיוחדים, בהתאם להנחיות המפקח בכתב | I33: קומפ' | J33: 5000 | K33: 10 | L33: =J33*K33 -> 50000 | N33: =K33 -> 10 | P33: =J33 -> 5000 | Q33: =P33*N33 -> 50000
D34: 1031 | E34: 99.1 | F34: 1-הקצבים שונים וסעיפים מיוחדים | G34: 99.002.2005 | H34: הקצב בגין תיאום ואספקת שירותים לגוף הציבורי ו/או לקבלן הממונה בהתאם לאמור בסעיף 35.9 להסכם | I34: הקצב | J34: 1 | K34: 50000 | L34: =J34*K34 -> 50000 | N34: =K34 -> 50000 | P34: =J34 -> 1 | Q34: =P34*N34 -> 50000
D35: 1032 | E35: 99.1 | F35: 1-הקצבים שונים וסעיפים מיוחדים | G35: 99.001.2006 | H35: הקצב עבור שירותי אקוסטיקה/אקוסטיקאי, על פי טבלת "שירותים שיבוצעו על ידי אקוסטקאי" בפרק 20 במפרט הדרישות הכלליות | I35: הקצב | J35: 1 | K35: 50000 | L35: =J35*K35 -> 50000 | N35: =K35 -> 50000 | P35: =J35 -> 1 | Q35: =P35*N35 -> 50000
D36: 1033 | E36: 99.1 | F36: 1-הקצבים שונים וסעיפים מיוחדים | G36: 99.001.2007 | H36: קצב עבור צוות מומחה ורשוי לטיפול בקרקע מזוהמת ו/או מי תהום מזוהמים ו/או גזי קרקע (יועצים, דוגמים ומעבדות אנליזה) ודגימות קרקע, גזי קרקע ומי תהום, על פי טבלת "התמורה עבור דיגום קרקע, גזי קרקע ומי תהום" בפרק 20 במפרט הדרישות הכלליות | I36: הקצב | J36: 1 | K36: 25000 | L36: =J36*K36 -> 25000 | N36: =K36 -> 25000 | P36: =J36 -> 1 | Q36: =P36*N36 -> 25000
D37: 1034 | E37: 99.1 | F37: 1-הקצבים שונים וסעיפים מיוחדים | G37: 99.002.2008 | H37: הקצב לצוות מומחה ורשוי לטיפול בחשד להמצאות אסבסט וטיפול במוצרי ושברי אסבסט-צמנט ואסבסט פריך בהתאם להוראות מפרט הדרישות הכלליות בפרק 20 | I37: הקצב | J37: 1 | K37: 25000 | L37: =J37*K37 -> 25000 | N37: =K37 -> 25000 | P37: =J37 -> 1 | Q37: =P37*N37 -> 25000
D38: 1035 | E38: 99.1 | F38: 1-הקצבים שונים וסעיפים מיוחדים | G38: 99.002.20011 | H38: תאומים מול קבלן אינפרה 2 בנושא ממשק מול SCADA, מתכנן/יועץ מנוסה (רמה א' - אקדמאי, בעל מעל 10 שנות ניסיון בתחום הרלוונטי לנושא הממשק) ככול שיידרשו לאחר השלמת כלל התחייבויות החוזיות של הקבלן | I38: ש"ע | J38: 500 | K38: 300 | L38: =J38*K38 -> 150000 | N38: =K38 -> 300 | P38: =J38 -> 500 | Q38: =P38*N38 -> 150000
D39: 1036 | E39: 99.1 | F39: 1-הקצבים שונים וסעיפים מיוחדים | G39: 99.001.20012 | H39: תאומים מול קבלן אינפרה 2 בנושא ממשק מול SCADA, מתכנן/יועץ מנוסה (רמה ב' - אקדמאי, בעל 8-10 שנות ניסיון בתחום הרלוונטי לנושא הממשק) ככול שיידרשו לאחר השלמת כלל התחייבויות החוזיות של הקבלן | I39: ש"ע | J39: 500 | K39: 400 | L39: =J39*K39 -> 200000 | N39: =K39 -> 400 | P39: =J39 -> 500 | Q39: =P39*N39 -> 200000
D40: 1037 | E40: 99.1 | F40: 1-הקצבים שונים וסעיפים מיוחדים | G40: 99.44.011.0560 | H40: גדר מפנל מבודד בעובי 50 מ"מ, הפנל עשוי מפח עליון ותחתון מגולוונים וצבועים עם בידוד פוליסטירן מוקצף (קל-קר), הגדר בגובה עד 2.0 מ', לרבות פרופיל סגירה U עליון ותחתון, אביזרי חיבור, עמודים מגולוונים מצינור קוטר 2/"3 כל 3.0 מ' ויסודות בטון או מעוגנים בקרקע בעומק של 0.7 מ' | I40: מ"ר | J40: 2920 | K40: 235 | L40: =J40*K40 -> 686200 | N40: =K40 -> 235 | P40: =J40 -> 2920 | Q40: =P40*N40 -> 686200
D41: 1038 | E41: 99.1 | F41: 1-הקצבים שונים וסעיפים מיוחדים | G41: 99.001.20015 | H41: פירוק גדר מלוחות פח דגם פנל בגובה עד 2 מ', לרבות עמודים ויסודות (במידה וקיים) | I41: מ"א | J41: 1460 | K41: 49 | L41: =J41*K41 -> 71540 | N41: =K41 -> 49 | P41: =J41 -> 1460 | Q41: =P41*N41 -> 71540
D42: 1039 | E42: 99.1 | F42: 1-הקצבים שונים וסעיפים מיוחדים | G42: 99.004.2001 | H42: תחזוקה לחצר חח"י, תחזוקה משמרת בהתאם להוראות ההסכם. | I42: חודש | J42: 40000 | K42: 24 | L42: =J42*K42 -> 960000 | N42: =K42 -> 24 | P42: =J42 -> 40000 | Q42: =P42*N42 -> 960000
D43: 1040 | E43: 99.1 | F43: 1-הקצבים שונים וסעיפים מיוחדים | G43: 99.004.2002 | H43: תחזוקה לחצר נת"ע, משמרת משמרת בהתאם להוראות ההסכם. | I43: חודש | J43: 40000 | K43: 24 | L43: =J43*K43 -> 960000 | N43: =K43 -> 24 | P43: =J43 -> 40000 | Q43: =P43*N43 -> 960000
D44: 1041 | E44: 99.1 | F44: 1-הקצבים שונים וסעיפים מיוחדים | G44: 99.004.2003 | H44: הקצב לאבטחת התחמ"ש לאחר החשמול לחצר חח"י + חצר נת"ע ועד מסירת התחמ"ש בהתאם לפרק 29 במפרט הדרישות הכלליות לעבודות קבלניות | I44: חודש | J44: 5000 | K44: 24 | L44: =J44*K44 -> 120000 | N44: =K44 -> 24 | P44: =J44 -> 5000 | Q44: =P44*N44 -> 120000
