Workbook

Sheet הערה כללית
A1: לוחות זמנים אלו הם לוחות זמנים משוערים המפורסמים לידיעת הציבור, אך אין בהם כדי לחייב את המדינה והגורמים המוסמכים מטעמה בקשר למיזם.

Sheet פרויקט - לוח זמנים
A1: מספר סידורי | B1: שלב | C1: מקטע | D1: תיאור המקטע | E1: תת מקטע | F1: סטטוס | G1: תאריך התחלה מקורי | H1: תאריך סיום מקורי | I1: תאריך התחלה עדכני | J1: תאריך סיום עדכני | K1: הערות | L1: נ"צ
A2: =VLOOKUP($B2,רשימות!$G$3:$H$11,2,0)&VLOOKUP($C2,רשימות!$K$3:$L$8,2,0)&_xlfn.IFNA(VLOOKUP($E2,רשימות!$N$3:$O$8,2,0),"000") -> 0111000 | B2: תכנון | C2: קו M1 שלב א' | D2: קו מטרו M1 - תכנון מוקדם אינפרה1 | F2: בביצוע | G2: 45292 | H2: 46357 | I2: 45292 | J2: 46631 | K2: דיווח קודם לדוגמה לפורמט
A4: =VLOOKUP($B4,רשימות!$G$3:$H$11,2,0)&VLOOKUP($C4,רשימות!$K$3:$L$8,2,0)&_xlfn.IFNA(VLOOKUP($E4,רשימות!$N$3:$O$8,2,0),"000") -> 0111110 | B4: תכנון | C4: קו M1 שלב א' | D4: קו M1 מקטע מרכזי (ראשונים עד גלילות) | E4: Sub1.1 | F4: בביצוע | G4: 45306 | H4: 46357 | I4: 45306 | J4: 46357 | K4: סטטוס נוכחי: התקדמות התכנון, הכנת מסמכי מכרז ופורסם הליך מיון מוקדם למכרזי אינפרה 1
A5: =VLOOKUP($B5,רשימות!$G$3:$H$11,2,0)&VLOOKUP($C5,רשימות!$K$3:$L$8,2,0)&_xlfn.IFNA(VLOOKUP($E5,רשימות!$N$3:$O$8,2,0),"000") -> 0111120 | B5: תכנון | C5: קו M1 שלב א' | D5: קו M1 מקטע מרכזי (ראשונים עד גלילות) | E5: Sub1.2 | F5: בביצוע | G5: 45306 | H5: 46357 | I5: 45306 | J5: 46447 | K5: לאינפרה 1+2
A6: =VLOOKUP($B6,רשימות!$G$3:$H$11,2,0)&VLOOKUP($C6,רשימות!$K$3:$L$8,2,0)&_xlfn.IFNA(VLOOKUP($E6,רשימות!$N$3:$O$8,2,0),"000") -> 0111130 | B6: תכנון | C6: קו M1 שלב א' | D6: קו M1 מקטע מרכזי (ראשונים עד גלילות) | E6: Sub1.3 | F6: בביצוע | G6: 45306 | H6: 46357 | I6: 45306 | J6: 46631 | K6: לאינפרה 1+2
A8: =VLOOKUP($B8,רשימות!$G$3:$H$11,2,0)&VLOOKUP($C8,רשימות!$K$3:$L$8,2,0)&_xlfn.IFNA(VLOOKUP($E8,רשימות!$N$3:$O$8,2,0),"000") -> 0121110 | B8: תכנון | C8: קו M2 שלב א' | D8: קו M2 מדיפו סגולה ועד חולון טרמינוס | E8: Sub1.1 | F8: בביצוע | G8: 45306 | H8: 46357 | I8: 45306 | J8: 46447 | K8: לאינפרה 1+2
A9: =VLOOKUP($B9,רשימות!$G$3:$H$11,2,0)&VLOOKUP($C9,רשימות!$K$3:$L$8,2,0)&_xlfn.IFNA(VLOOKUP($E9,רשימות!$N$3:$O$8,2,0),"000") -> 0121120 | B9: תכנון | C9: קו M2 שלב א' | D9: קו M2 מדיפו סגולה ועד חולון טרמינוס | E9: Sub1.2 | F9: בביצוע | G9: 45306 | H9: 46357 | I9: 45306 | J9: 46631 | K9: לאינפרה 1+2
A10: =VLOOKUP($B10,רשימות!$G$3:$H$11,2,0)&VLOOKUP($C10,רשימות!$K$3:$L$8,2,0)&_xlfn.IFNA(VLOOKUP($E10,רשימות!$N$3:$O$8,2,0),"000") -> 0121130 | B10: תכנון | C10: קו M2 שלב א' | D10: קו M2 מדיפו סגולה ועד חולון טרמינוס | E10: Sub1.3 | F10: בביצוע | G10: 45306 | H10: 46357 | I10: 45306 | J10: 46813 | K10: לאינפרה 1+2
A12: =VLOOKUP($B12,רשימות!$G$3:$H$11,2,0)&VLOOKUP($C12,רשימות!$K$3:$L$8,2,0)&_xlfn.IFNA(VLOOKUP($E12,רשימות!$N$3:$O$8,2,0),"000") -> 0131110 | B12: תכנון | C12: קו M3 שלב א' | D12: קו M3 מקטע מרכזי (מקריית אריה עד טרמינוס בת ים) | E12: Sub1.1 | F12: בביצוע | G12: 45306 | H12: 46357 | I12: 45306 | J12: 46357 | K12: לאינפרה 1+2
A13: =VLOOKUP($B13,רשימות!$G$3:$H$11,2,0)&VLOOKUP($C13,רשימות!$K$3:$L$8,2,0)&_xlfn.IFNA(VLOOKUP($E13,רשימות!$N$3:$O$8,2,0),"000") -> 0131120 | B13: תכנון | C13: קו M3 שלב א' | D13: קו M3 מקטע מרכזי (מקריית אריה עד טרמינוס בת ים) | E13: Sub1.2 | F13: בביצוע | G13: 45306 | H13: 46357 | I13: 45306 | J13: 46357 | K13: לאינפרה 1+2
A14: =VLOOKUP($B14,רשימות!$G$3:$H$11,2,0)&VLOOKUP($C14,רשימות!$K$3:$L$8,2,0)&_xlfn.IFNA(VLOOKUP($E14,רשימות!$N$3:$O$8,2,0),"000") -> 0131130 | B14: תכנון | C14: קו M3 שלב א' | D14: קו M3 מקטע מרכזי (מקריית אריה עד טרמינוס בת ים) | E14: Sub1.3 | F14: בביצוע | G14: 45306 | H14: 46357 | I14: 45306 | J14: 46357 | K14: לאינפרה 1+2
A16: =VLOOKUP($B16,רשימות!$G$3:$H$11,2,0)&VLOOKUP($C16,רשימות!$K$3:$L$8,2,0)&_xlfn.IFNA(VLOOKUP($E16,רשימות!$N$3:$O$8,2,0),"000") -> 0311110 | B16: מכרז | C16: קו M1 שלב א' | D16: קו M1 מקטע מרכזי (ראשונים עד גלילות) | E16: Sub1.1 | F16: בביצוע | G16: 46113 | H16: 46447 | I16: 45931 | J16: 46447 | K16: לאינפרה 1
A17: =VLOOKUP($B17,רשימות!$G$3:$H$11,2,0)&VLOOKUP($C17,רשימות!$K$3:$L$8,2,0)&_xlfn.IFNA(VLOOKUP($E17,רשימות!$N$3:$O$8,2,0),"000") -> 0311120 | B17: מכרז | C17: קו M1 שלב א' | D17: קו M1 מקטע מרכזי (ראשונים עד גלילות) | E17: Sub1.2 | F17: בביצוע | G17: 46113 | H17: 46539 | I17: 45931 | J17: 46539 | K17: לאינפרה 1
A18: =VLOOKUP($B18,רשימות!$G$3:$H$11,2,0)&VLOOKUP($C18,רשימות!$K$3:$L$8,2,0)&_xlfn.IFNA(VLOOKUP($E18,רשימות!$N$3:$O$8,2,0),"000") -> 0311130 | B18: מכרז | C18: קו M1 שלב א' | D18: קו M1 מקטע מרכזי (ראשונים עד גלילות) | E18: Sub1.3 | F18: בביצוע | G18: 46113 | H18: 46905 | I18: 45931 | J18: 46905 | K18: לאינפרה 1
... A32: =VLOOKUP($B32,רשימות!$G$3:$H$11,2,0)&VLOOKUP($C32,רשימות!$K$3:$L$8,2,0)&_xlfn.IFNA(VLOOKUP($E32,רשימות!$N$3:$O$8,2,0),"000") -> 0611120 | B32: הקמה - INFRA1 | C32: קו M1 שלב א' | D32: קו M1 מקטע מרכזי (ראשונים עד גלילות) | E32: Sub1.2 | F32: טרם החל | G32: 47205 | H32: 48883 | I32: 47205 | J32: 48883 | K32: החלו עבודות קידום זמינות
A33: =VLOOKUP($B33,רשימות!$G$3:$H$11,2,0)&VLOOKUP($C33,רשימות!$K$3:$L$8,2,0)&_xlfn.IFNA(VLOOKUP($E33,רשימות!$N$3:$O$8,2,0),"000") -> 0611130 | B33: הקמה - INFRA1 | C33: קו M1 שלב א' | D33: קו M1 מקטע מרכזי (ראשונים עד גלילות) | E33: Sub1.3 | F33: טרם החל | G33: 47392 | H33: 49095 | I33: 47392 | J33: 49095
A35: =VLOOKUP($B35,רשימות!$G$3:$H$11,2,0)&VLOOKUP($C35,רשימות!$K$3:$L$8,2,0)&_xlfn.IFNA(VLOOKUP($E35,רשימות!$N$3:$O$8,2,0),"000") -> 0621110 | B35: הקמה - INFRA1 | C35: קו M2 שלב א' | D35: קו M2 מדיפו סגולה ועד חולון טרמינוס | E35: Sub1.1 | F35: טרם החל | G35: 47088 | H35: 48638 | I35: 47088 | J35: 48638
A36: =VLOOKUP($B36,רשימות!$G$3:$H$11,2,0)&VLOOKUP($C36,רשימות!$K$3:$L$8,2,0)&_xlfn.IFNA(VLOOKUP($E36,רשימות!$N$3:$O$8,2,0),"000") -> 0621120 | B36: הקמה - INFRA1 | C36: קו M2 שלב א' | D36: קו M2 מדיפו סגולה ועד חולון טרמינוס | E36: Sub1.2 | F36: טרם החל | G36: 47205 | H36: 48883 | I36: 47205 | J36: 48883
A37: =VLOOKUP($B37,רשימות!$G$3:$H$11,2,0)&VLOOKUP($C37,רשימות!$K$3:$L$8,2,0)&_xlfn.IFNA(VLOOKUP($E37,רשימות!$N$3:$O$8,2,0),"000") -> 0621130 | B37: הקמה - INFRA1 | C37: קו M2 שלב א' | D37: קו M2 מדיפו סגולה ועד חולון טרמינוס | E37: Sub1.3 | F37: טרם החל | G37: 47392 | H37: 49095 | I37: 47392 | J37: 49095 | K37: החלו עבודות קידום זמינות
A39: =VLOOKUP($B39,רשימות!$G$3:$H$11,2,0)&VLOOKUP($C39,רשימות!$K$3:$L$8,2,0)&_xlfn.IFNA(VLOOKUP($E39,רשימות!$N$3:$O$8,2,0),"000") -> 0631110 | B39: הקמה - INFRA1 | C39: קו M3 שלב א' | D39: קו M3 מקטע מרכזי (מקריית אריה עד טרמינוס בת ים) | E39: Sub1.1 | F39: טרם החל | G39: 46997 | H39: 48638 | I39: 46997 | J39: 48638 | K39: החלו עבודות קידום זמינות
A40: =VLOOKUP($B40,רשימות!$G$3:$H$11,2,0)&VLOOKUP($C40,רשימות!$K$3:$L$8,2,0)&_xlfn.IFNA(VLOOKUP($E40,רשימות!$N$3:$O$8,2,0),"000") -> 0631120 | B40: הקמה - INFRA1 | C40: קו M3 שלב א' | D40: קו M3 מקטע מרכזי (מקריית אריה עד טרמינוס בת ים) | E40: Sub1.2 | F40: טרם החל | G40: 47118 | H40: 48883 | I40: 47118 | J40: 48883 | K40: החלו עבודות קידום זמינות
A41: =VLOOKUP($B41,רשימות!$G$3:$H$11,2,0)&VLOOKUP($C41,רשימות!$K$3:$L$8,2,0)&_xlfn.IFNA(VLOOKUP($E41,רשימות!$N$3:$O$8,2,0),"000") -> 0631130 | B41: הקמה - INFRA1 | C41: קו M3 שלב א' | D41: קו M3 מקטע מרכזי (מקריית אריה עד טרמינוס בת ים) | E41: Sub1.3 | F41: טרם החל | G41: 47392 | H41: 49095 | I41: 47392 | J41: 49095
A43: =VLOOKUP($B43,רשימות!$G$3:$H$11,2,0)&VLOOKUP($C43,רשימות!$K$3:$L$8,2,0)&_xlfn.IFNA(VLOOKUP($E43,רשימות!$N$3:$O$8,2,0),"000") -> 0711110 | B43: הקמה - INFRA2 | C43: קו M1 שלב א' | D43: קו M1 מקטע מרכזי (ראשונים עד גלילות) | E43: Sub1.1 | F43: טרם החל | G43: 412756 | H43: 50405 | I43: 412756 | J43: 50405
A44: =VLOOKUP($B44,רשימות!$G$3:$H$11,2,0)&VLOOKUP($C44,רשימות!$K$3:$L$8,2,0)&_xlfn.IFNA(VLOOKUP($E44,רשימות!$N$3:$O$8,2,0),"000") -> 0721110 | B44: הקמה - INFRA2 | C44: קו M2 שלב א' | D44: קו M2 מדיפו סגולה ועד חולון טרמינוס | E44: Sub1.1 | F44: טרם החל | G44: 412756 | H44: 50405 | I44: 412756 | J44: 50405
A45: =VLOOKUP($B45,רשימות!$G$3:$H$11,2,0)&VLOOKUP($C45,רשימות!$K$3:$L$8,2,0)&_xlfn.IFNA(VLOOKUP($E45,רשימות!$N$3:$O$8,2,0),"000") -> 0731110 | B45: הקמה - INFRA2 | C45: קו M3 שלב א' | D45: קו M3 מקטע מרכזי (מקריית אריה עד טרמינוס בת ים) | E45: Sub1.1 | F45: טרם החל | G45: 412756 | H45: 50405 | I45: 412756 | J45: 50405
A47: =VLOOKUP($B47,רשימות!$G$3:$H$11,2,0)&VLOOKUP($C47,רשימות!$K$3:$L$8,2,0)&_xlfn.IFNA(VLOOKUP($E47,רשימות!$N$3:$O$8,2,0),"000") -> 0711120 | B47: הקמה - INFRA2 | C47: קו M1 שלב א' | D47: קו M1 מקטע מרכזי (ראשונים עד גלילות) | E47: Sub1.2 | F47: טרם החל | G47: 01-2030 - 02-2031 | H47: 01-2038 - 02-2039 | I47: 01-2030 - 02-2031 | J47: 01-2038 - 02-2039
A48: =VLOOKUP($B48,רשימות!$G$3:$H$11,2,0)&VLOOKUP($C48,רשימות!$K$3:$L$8,2,0)&_xlfn.IFNA(VLOOKUP($E48,רשימות!$N$3:$O$8,2,0),"000") -> 0721120 | B48: הקמה - INFRA2 | C48: קו M2 שלב א' | D48: קו M2 מדיפו סגולה ועד חולון טרמינוס | E48: Sub1.2 | F48: טרם החל | G48: 01-2030 - 02-2031 | H48: 01-2038 - 02-2039 | I48: 01-2030 - 02-2031 | J48: 01-2038 - 02-2039
A49: =VLOOKUP($B49,רשימות!$G$3:$H$11,2,0)&VLOOKUP($C49,רשימות!$K$3:$L$8,2,0)&_xlfn.IFNA(VLOOKUP($E49,רשימות!$N$3:$O$8,2,0),"000") -> 0731120 | B49: הקמה - INFRA2 | C49: קו M3 שלב א' | D49: קו M3 מקטע מרכזי (מקריית אריה עד טרמינוס בת ים) | E49: Sub1.2 | F49: טרם החל | G49: 01-2030 - 02-2031 | H49: 01-2038 - 02-2039 | I49: 01-2030 - 02-2031 | J49: 01-2038 - 02-2039
A51: =VLOOKUP($B51,רשימות!$G$3:$H$11,2,0)&VLOOKUP($C51,רשימות!$K$3:$L$8,2,0)&_xlfn.IFNA(VLOOKUP($E51,רשימות!$N$3:$O$8,2,0),"000") -> 0711130 | B51: הקמה - INFRA2 | C51: קו M1 שלב א' | D51: קו M1 מקטע מרכזי (ראשונים עד גלילות) | E51: Sub1.3 | F51: טרם החל | G51: 06-2030 - 02-2032 | H51: 06-2038 - 02-2040 | I51: 06-2030 - 02-2032 | J51: 06-2038 - 02-2040
A52: =VLOOKUP($B52,רשימות!$G$3:$H$11,2,0)&VLOOKUP($C52,רשימות!$K$3:$L$8,2,0)&_xlfn.IFNA(VLOOKUP($E52,רשימות!$N$3:$O$8,2,0),"000") -> 0721130 | B52: הקמה - INFRA2 | C52: קו M2 שלב א' | D52: קו M2 מדיפו סגולה ועד חולון טרמינוס | E52: Sub1.3 | F52: טרם החל | G52: 06-2030 - 02-2032 | H52: 06-2038 - 02-2040 | I52: 06-2030 - 02-2032 | J52: 06-2038 - 02-2040
A53: =VLOOKUP($B53,רשימות!$G$3:$H$11,2,0)&VLOOKUP($C53,רשימות!$K$3:$L$8,2,0)&_xlfn.IFNA(VLOOKUP($E53,רשימות!$N$3:$O$8,2,0),"000") -> 0731130 | B53: הקמה - INFRA2 | C53: קו M3 שלב א' | D53: קו M3 מקטע מרכזי (מקריית אריה עד טרמינוס בת ים) | E53: Sub1.3 | F53: טרם החל | G53: 06-2030 - 02-2032 | H53: 06-2038 - 02-2040 | I53: 06-2030 - 02-2032 | J53: 06-2038 - 02-2040
A55: =VLOOKUP($B55,רשימות!$G$3:$H$11,2,0)&VLOOKUP($C55,רשימות!$K$3:$L$8,2,0)&_xlfn.IFNA(VLOOKUP($E55,רשימות!$N$3:$O$8,2,0),"000") -> 0911110 | B55: הפעלה | C55: קו M1 שלב א' | D55: קו M1 מקטע מרכזי (ראשונים עד גלילות) | E55: Sub1.1 | F55: טרם החל | H55: 50405 | J55: 50405
A56: =VLOOKUP($B56,רשימות!$G$3:$H$11,2,0)&VLOOKUP($C56,רשימות!$K$3:$L$8,2,0)&_xlfn.IFNA(VLOOKUP($E56,רשימות!$N$3:$O$8,2,0),"000") -> 0921110 | B56: הפעלה | C56: קו M2 שלב א' | D56: קו M2 מדיפו סגולה ועד חולון טרמינוס | E56: Sub1.1 | F56: טרם החל | H56: 50405 | J56: 50405
A57: =VLOOKUP($B57,רשימות!$G$3:$H$11,2,0)&VLOOKUP($C57,רשימות!$K$3:$L$8,2,0)&_xlfn.IFNA(VLOOKUP($E57,רשימות!$N$3:$O$8,2,0),"000") -> 0931110 | B57: הפעלה | C57: קו M3 שלב א' | D57: קו M3 מקטע מרכזי (מקריית אריה עד טרמינוס בת ים) | E57: Sub1.1 | F57: טרם החל | H57: 50405 | J57: 50405
A59: =VLOOKUP($B59,רשימות!$G$3:$H$11,2,0)&VLOOKUP($C59,רשימות!$K$3:$L$8,2,0)&_xlfn.IFNA(VLOOKUP($E59,רשימות!$N$3:$O$8,2,0),"000") -> 0911120 | B59: הפעלה | C59: קו M1 שלב א' | D59: קו M1 מקטע מרכזי (ראשונים עד גלילות) | E59: Sub1.2 | F59: טרם החל | H59: 01-2038 - 02-2039 | J59: 01-2038 - 02-2039
A60: =VLOOKUP($B60,רשימות!$G$3:$H$11,2,0)&VLOOKUP($C60,רשימות!$K$3:$L$8,2,0)&_xlfn.IFNA(VLOOKUP($E60,רשימות!$N$3:$O$8,2,0),"000") -> 0921120 | B60: הפעלה | C60: קו M2 שלב א' | D60: קו M2 מדיפו סגולה ועד חולון טרמינוס | E60: Sub1.2 | F60: טרם החל | H60: 01-2038 - 02-2039 | J60: 01-2038 - 02-2039
A61: =VLOOKUP($B61,רשימות!$G$3:$H$11,2,0)&VLOOKUP($C61,רשימות!$K$3:$L$8,2,0)&_xlfn.IFNA(VLOOKUP($E61,רשימות!$N$3:$O$8,2,0),"000") -> 0931120 | B61: הפעלה | C61: קו M3 שלב א' | D61: קו M3 מקטע מרכזי (מקריית אריה עד טרמינוס בת ים) | E61: Sub1.2 | F61: טרם החל | H61: 01-2038 - 02-2039 | J61: 01-2038 - 02-2039
A63: =VLOOKUP($B63,רשימות!$G$3:$H$11,2,0)&VLOOKUP($C63,רשימות!$K$3:$L$8,2,0)&_xlfn.IFNA(VLOOKUP($E63,רשימות!$N$3:$O$8,2,0),"000") -> 0911130 | B63: הפעלה | C63: קו M1 שלב א' | D63: קו M1 מקטע מרכזי (ראשונים עד גלילות) | E63: Sub1.3 | F63: טרם החל | H63: 06-2038 - 02-2040 | J63: 06-2038 - 02-2040
A64: =VLOOKUP($B64,רשימות!$G$3:$H$11,2,0)&VLOOKUP($C64,רשימות!$K$3:$L$8,2,0)&_xlfn.IFNA(VLOOKUP($E64,רשימות!$N$3:$O$8,2,0),"000") -> 0921130 | B64: הפעלה | C64: קו M2 שלב א' | D64: קו M2 מדיפו סגולה ועד חולון טרמינוס | E64: Sub1.3 | F64: טרם החל | H64: 06-2038 - 02-2040 | J64: 06-2038 - 02-2040
A65: =VLOOKUP($B65,רשימות!$G$3:$H$11,2,0)&VLOOKUP($C65,רשימות!$K$3:$L$8,2,0)&_xlfn.IFNA(VLOOKUP($E65,רשימות!$N$3:$O$8,2,0),"000") -> 0931130 | B65: הפעלה | C65: קו M3 שלב א' | D65: קו M3 מקטע מרכזי (מקריית אריה עד טרמינוס בת ים) | E65: Sub1.3 | F65: טרם החל | H65: 06-2038 - 02-2040 | J65: 06-2038 - 02-2040

Sheet רשימות
A1: שלב | D1: סטטוס | G1: פורמט מספר ייחודי לכל שלב - נוצר ע"י תומר חיו עבור המטרו בהתאם להנחיות
A2: תכנון | D2: טרם החל | G2: שלב SS | K2: MM מקטע | N2: TTT תת מקטע
A3: טרום מכרז | D3: בביצוע | G3: תכנון | H3: 01 | I3: תכנון מדינה כולל אינפרא 1+2 | K3: קו M1 שלב א' | L3: 11 | N3: Sub1.1 | O3: 110
A4: מכרז | D4: בוצע | G4: טרום מכרז | H4: 02 | I4: טרום מכרז | K4: קו M2 שלב א' | L4: 21 | N4: Sub1.2 | O4: 120
A5: פיתוח ותכנון מפורט | G5: מכרז | H5: 03 | I5: תהליך מכרזי אינפרא 1/2, קד"ז | K5: קו M3 שלב א' | L5: 31 | N5: Sub1.3 | O5: 130
A6: הקמה | G6: פיתוח ותכנון מפורט | H6: 04 | I6: תכנון מפורט קבלן DB | K6: קו M1 שלב ב' | L6: 12 | N6: Sub 2.1 | O6: 210
A7: הקמה - INFRA1 | G7: הקמה | H7: 05 | I7: ביצוע קידומי זמינות | K7: קו M2 שלב ב' | L7: 22 | N7: Sub 2.2 | O7: 220
A8: הקמה - INFRA2 | G8: הקמה - INFRA1 | H8: 06 | I8: ביצוע תחנות תת קרקעיות ומתחמי תחזוקה | K8: קו M3 שלב ב' | L8: 32 | N8: Sub 2.3 | O8: 230
A9: בדיקות הפעלה והרצה | G9: הקמה - INFRA2 | H9: 07 | I9: התקנת מערכות, רכש קרונות
A10: הפעלה | G10: בדיקות הפעלה והרצה | H10: 08 | I10: בדיקות הפעלה והרצה
G11: הפעלה | H11: 09 | I11: הפעלה מסחרית בשלבים
